BEGIN:VCALENDAR
VERSION:2.0
PRODID:-//Renovation City Church - ECPv6.15.20//NONSGML v1.0//EN
CALSCALE:GREGORIAN
METHOD:PUBLISH
X-ORIGINAL-URL:https://www.renovationcitychurch.com
X-WR-CALDESC:Events for Renovation City Church
REFRESH-INTERVAL;VALUE=DURATION:PT1H
X-Robots-Tag:noindex
X-PUBLISHED-TTL:PT1H
BEGIN:VTIMEZONE
TZID:America/Chicago
BEGIN:DAYLIGHT
TZOFFSETFROM:-0600
TZOFFSETTO:-0500
TZNAME:CDT
DTSTART:20240310T080000
END:DAYLIGHT
BEGIN:STANDARD
TZOFFSETFROM:-0500
TZOFFSETTO:-0600
TZNAME:CST
DTSTART:20241103T070000
END:STANDARD
BEGIN:DAYLIGHT
TZOFFSETFROM:-0600
TZOFFSETTO:-0500
TZNAME:CDT
DTSTART:20250309T080000
END:DAYLIGHT
BEGIN:STANDARD
TZOFFSETFROM:-0500
TZOFFSETTO:-0600
TZNAME:CST
DTSTART:20251102T070000
END:STANDARD
BEGIN:DAYLIGHT
TZOFFSETFROM:-0600
TZOFFSETTO:-0500
TZNAME:CDT
DTSTART:20260308T080000
END:DAYLIGHT
BEGIN:STANDARD
TZOFFSETFROM:-0500
TZOFFSETTO:-0600
TZNAME:CST
DTSTART:20261101T070000
END:STANDARD
END:VTIMEZONE
BEGIN:VEVENT
DTSTART;TZID=America/Chicago:20250817T110000
DTEND;TZID=America/Chicago:20250817T120000
DTSTAMP:20260423T162853
CREATED:20250815T145342Z
LAST-MODIFIED:20250815T145342Z
UID:2277-1755428400-1755432000@www.renovationcitychurch.com
SUMMARY:Baptism Sunday
DESCRIPTION:
URL:https://www.renovationcitychurch.com/event/baptism-sunday/
LOCATION:Renovation City Church\, 2101 Garden Rd\, Pearland\, TX\, 77581\, United States
CATEGORIES:Worship Service
ATTACH;FMTTYPE=image/png:https://www.renovationcitychurch.com/wp-content/uploads/2025/08/Baptism-Sundays-1.png
END:VEVENT
BEGIN:VEVENT
DTSTART;TZID=America/Chicago:20250820T183000
DTEND;TZID=America/Chicago:20250820T193000
DTSTAMP:20260423T162853
CREATED:20250818T043754Z
LAST-MODIFIED:20250818T043754Z
UID:2314-1755714600-1755718200@www.renovationcitychurch.com
SUMMARY:Corporate Prayer
DESCRIPTION:
URL:https://www.renovationcitychurch.com/event/corporate-prayer/
LOCATION:Renovation City Church\, 2101 Garden Rd\, Pearland\, TX\, 77581\, United States
CATEGORIES:Prayer
ATTACH;FMTTYPE=image/png:https://www.renovationcitychurch.com/wp-content/uploads/2025/08/Corporate-Prayer-1.png
END:VEVENT
BEGIN:VEVENT
DTSTART;VALUE=DATE:20250822
DTEND;VALUE=DATE:20250823
DTSTAMP:20260423T162853
CREATED:20250629T221343Z
LAST-MODIFIED:20250815T144451Z
UID:2209-1755820800-1755907199@www.renovationcitychurch.com
SUMMARY:Rockin' for the Rock
DESCRIPTION:Join our concert as we reach Pearland shoppers with the good news of the Gospel through praise and worship!
URL:https://www.renovationcitychurch.com/event/rockin-for-the-rock/
LOCATION:Pavilion at Pearland Town Center\, 11200 Broadway Street\, Pearland\, TX\, 77584\, United States
ATTACH;FMTTYPE=image/png:https://www.renovationcitychurch.com/wp-content/uploads/2025/06/Rockin-for-the-Rock.png
END:VEVENT
BEGIN:VEVENT
DTSTART;TZID=America/Chicago:20250824T110000
DTEND;TZID=America/Chicago:20250824T120000
DTSTAMP:20260423T162853
CREATED:20250815T145513Z
LAST-MODIFIED:20250815T145602Z
UID:2280-1756033200-1756036800@www.renovationcitychurch.com
SUMMARY:Baptism Sunday
DESCRIPTION:If you want to be baptized\, see Pastor Nate or Pastor Robert.
URL:https://www.renovationcitychurch.com/event/baptism-sunday-2/
LOCATION:Renovation City Church\, 2101 Garden Rd\, Pearland\, TX\, 77581\, United States
CATEGORIES:Worship Service
ATTACH;FMTTYPE=image/png:https://www.renovationcitychurch.com/wp-content/uploads/2025/08/Baptism-Sundays-1.png
END:VEVENT
BEGIN:VEVENT
DTSTART;TZID=America/Chicago:20250828T160000
DTEND;TZID=America/Chicago:20250828T170000
DTSTAMP:20260423T162853
CREATED:20250815T145833Z
LAST-MODIFIED:20250818T003929Z
UID:2283-1756396800-1756400400@www.renovationcitychurch.com
SUMMARY:WMU: Women's Mission Union
DESCRIPTION:Join other women interested in reaching their community through mission teaching\, prayer\, and outreach efforts.
URL:https://www.renovationcitychurch.com/event/wmu-womens-mission-union/
LOCATION:Parsonage\, 2102 Kelly Drive\, Pearland\, TX\, 77581\, United States
CATEGORIES:Outreach
ATTACH;FMTTYPE=image/png:https://www.renovationcitychurch.com/wp-content/uploads/2025/08/WMU-1.png
END:VEVENT
END:VCALENDAR