BEGIN:VCALENDAR
VERSION:2.0
PRODID:-//Renovation City Church - ECPv6.15.20//NONSGML v1.0//EN
CALSCALE:GREGORIAN
METHOD:PUBLISH
X-WR-CALNAME:Renovation City Church
X-ORIGINAL-URL:https://www.renovationcitychurch.com
X-WR-CALDESC:Events for Renovation City Church
REFRESH-INTERVAL;VALUE=DURATION:PT1H
X-Robots-Tag:noindex
X-PUBLISHED-TTL:PT1H
BEGIN:VTIMEZONE
TZID:America/Chicago
BEGIN:DAYLIGHT
TZOFFSETFROM:-0600
TZOFFSETTO:-0500
TZNAME:CDT
DTSTART:20240310T080000
END:DAYLIGHT
BEGIN:STANDARD
TZOFFSETFROM:-0500
TZOFFSETTO:-0600
TZNAME:CST
DTSTART:20241103T070000
END:STANDARD
BEGIN:DAYLIGHT
TZOFFSETFROM:-0600
TZOFFSETTO:-0500
TZNAME:CDT
DTSTART:20250309T080000
END:DAYLIGHT
BEGIN:STANDARD
TZOFFSETFROM:-0500
TZOFFSETTO:-0600
TZNAME:CST
DTSTART:20251102T070000
END:STANDARD
BEGIN:DAYLIGHT
TZOFFSETFROM:-0600
TZOFFSETTO:-0500
TZNAME:CDT
DTSTART:20260308T080000
END:DAYLIGHT
BEGIN:STANDARD
TZOFFSETFROM:-0500
TZOFFSETTO:-0600
TZNAME:CST
DTSTART:20261101T070000
END:STANDARD
END:VTIMEZONE
BEGIN:VEVENT
DTSTART;TZID=America/Chicago:20251119T183000
DTEND;TZID=America/Chicago:20251119T200000
DTSTAMP:20260423T180431
CREATED:20251117T193724Z
LAST-MODIFIED:20251117T193724Z
UID:2540-1763577000-1763582400@www.renovationcitychurch.com
SUMMARY:Prayer Meeting
DESCRIPTION:Join us in the Fellowship Hall as we gather for a brief time of prayer to honor our awesome God and pray for our members\, our neighbors and our world.
URL:https://www.renovationcitychurch.com/event/prayer-meeting-9/
LOCATION:Renovation City Church\, 2101 Garden Rd\, Pearland\, TX\, 77581\, United States
CATEGORIES:Prayer
ATTACH;FMTTYPE=image/png:https://www.renovationcitychurch.com/wp-content/uploads/2025/08/Corporate-Prayer-1.png
END:VEVENT
BEGIN:VEVENT
DTSTART;TZID=America/Chicago:20251119T180000
DTEND;TZID=America/Chicago:20251119T200000
DTSTAMP:20260423T180431
CREATED:20251117T193450Z
LAST-MODIFIED:20251117T193450Z
UID:2538-1763575200-1763582400@www.renovationcitychurch.com
SUMMARY:Renovators Youth Group
DESCRIPTION:Join grades 5th through 12th in the sanctuary for fun activities\, food\, fellowship and an encouraging Word. Invite a friend!
URL:https://www.renovationcitychurch.com/event/renovators-youth-group-8/
LOCATION:Renovation City Church\, 2101 Garden Rd\, Pearland\, TX\, 77581\, United States
CATEGORIES:Bible Study,Fellowship
ATTACH;FMTTYPE=image/png:https://www.renovationcitychurch.com/wp-content/uploads/2025/09/Renovators-1.png
END:VEVENT
BEGIN:VEVENT
DTSTART;TZID=America/Chicago:20251116T090000
DTEND;TZID=America/Chicago:20251116T100000
DTSTAMP:20260423T180431
CREATED:20251110T165253Z
LAST-MODIFIED:20251110T165253Z
UID:2533-1763283600-1763287200@www.renovationcitychurch.com
SUMMARY:Family Life Group
DESCRIPTION:Join us before church for the Hall Life Group that applies the sermon series on Colossians. Kids are welcome to join the discussion and fellowship as we grow in our faith and relationships together. Contact Robert Clark for more information.
URL:https://www.renovationcitychurch.com/event/family-life-group-5/
LOCATION:Renovation City Church\, 2101 Garden Rd\, Pearland\, TX\, 77581\, United States
CATEGORIES:Bible Study
ATTACH;FMTTYPE=image/png:https://www.renovationcitychurch.com/wp-content/uploads/2025/06/Prayer-Meeting.png
END:VEVENT
BEGIN:VEVENT
DTSTART;TZID=America/Chicago:20251113T103000
DTEND;TZID=America/Chicago:20251113T120000
DTSTAMP:20260423T180431
CREATED:20251110T165058Z
LAST-MODIFIED:20251110T165058Z
UID:2531-1763029800-1763035200@www.renovationcitychurch.com
SUMMARY:What Happens When Women Pray: Book Study
DESCRIPTION:All are welcome to come and be led in discussion and teaching on biblical and practical ways to enter into dynamic\, life changing prayer. Whether you can come once or to all 6 sessions\, please join and bring a friend! See Diana Clark or Wanda Freeman for more information. Held in the Fellowship Hall of RCC.
URL:https://www.renovationcitychurch.com/event/what-happens-when-women-pray-book-study-5/
LOCATION:Renovation City Church\, 2101 Garden Rd\, Pearland\, TX\, 77581\, United States
CATEGORIES:Bible Study,Fellowship
ATTACH;FMTTYPE=image/png:https://www.renovationcitychurch.com/wp-content/uploads/2025/09/Womens-Prayer-Meeting.png
END:VEVENT
BEGIN:VEVENT
DTSTART;TZID=America/Chicago:20251112T183000
DTEND;TZID=America/Chicago:20251112T200000
DTSTAMP:20260423T180431
CREATED:20251105T200335Z
LAST-MODIFIED:20251105T200335Z
UID:2520-1762972200-1762977600@www.renovationcitychurch.com
SUMMARY:Prayer Meeting
DESCRIPTION:Join us in the Fellowship Hall as we gather for a brief time of prayer to honor our awesome God and pray for our members\, our neighbors and our world.
URL:https://www.renovationcitychurch.com/event/prayer-meeting-8/
LOCATION:Renovation City Church\, 2101 Garden Rd\, Pearland\, TX\, 77581\, United States
CATEGORIES:Prayer
ATTACH;FMTTYPE=image/png:https://www.renovationcitychurch.com/wp-content/uploads/2025/08/Corporate-Prayer-1.png
END:VEVENT
BEGIN:VEVENT
DTSTART;TZID=America/Chicago:20251112T180000
DTEND;TZID=America/Chicago:20251112T200000
DTSTAMP:20260423T180431
CREATED:20251105T195126Z
LAST-MODIFIED:20251105T195126Z
UID:2518-1762970400-1762977600@www.renovationcitychurch.com
SUMMARY:Renovators Youth Group
DESCRIPTION:Join grades 5th through 12th in the sanctuary for fun activities\, food\, fellowship and an encouraging Word. Invite a friend!
URL:https://www.renovationcitychurch.com/event/renovators-youth-group-7/
LOCATION:Renovation City Church\, 2101 Garden Rd\, Pearland\, TX\, 77581\, United States
CATEGORIES:Bible Study,Fellowship
ATTACH;FMTTYPE=image/png:https://www.renovationcitychurch.com/wp-content/uploads/2025/09/Renovators-1.png
END:VEVENT
BEGIN:VEVENT
DTSTART;TZID=America/Chicago:20251105T183000
DTEND;TZID=America/Chicago:20251105T200000
DTSTAMP:20260423T180431
CREATED:20251026T172907Z
LAST-MODIFIED:20251026T172948Z
UID:2514-1762367400-1762372800@www.renovationcitychurch.com
SUMMARY:Prayer Meeting
DESCRIPTION:Join us in the Fellowship Hall as we gather for a brief time of prayer to honor our awesome God and pray for our members\, our neighbors and our world.
URL:https://www.renovationcitychurch.com/event/prayer-meeting-7/
LOCATION:Renovation City Church\, 2101 Garden Rd\, Pearland\, TX\, 77581\, United States
CATEGORIES:Prayer
ATTACH;FMTTYPE=image/png:https://www.renovationcitychurch.com/wp-content/uploads/2025/08/Corporate-Prayer-1.png
END:VEVENT
BEGIN:VEVENT
DTSTART;TZID=America/Chicago:20251105T180000
DTEND;TZID=America/Chicago:20251105T200000
DTSTAMP:20260423T180431
CREATED:20251026T171222Z
LAST-MODIFIED:20251026T171829Z
UID:2508-1762365600-1762372800@www.renovationcitychurch.com
SUMMARY:Renovators Youth Group
DESCRIPTION:Join grades 5th through 12th in the sanctuary for fun activities\, food\, fellowship and an encouraging Word. Invite a friend!
URL:https://www.renovationcitychurch.com/event/renovators-youth-group-6/
LOCATION:Renovation City Church\, 2101 Garden Rd\, Pearland\, TX\, 77581\, United States
CATEGORIES:Bible Study,Fellowship
ATTACH;FMTTYPE=image/png:https://www.renovationcitychurch.com/wp-content/uploads/2025/09/Renovators-1.png
END:VEVENT
BEGIN:VEVENT
DTSTART;TZID=America/Chicago:20251102T090000
DTEND;TZID=America/Chicago:20251102T100000
DTSTAMP:20260423T180431
CREATED:20251026T172640Z
LAST-MODIFIED:20251026T172640Z
UID:2512-1762074000-1762077600@www.renovationcitychurch.com
SUMMARY:Family Life Group
DESCRIPTION:Join us before church for the Hall Life Group that applies the sermon series on Colossians. Kids are welcome to join the discussion and fellowship as we grow in our faith and relationships together. Contact Robert Clark for more information.
URL:https://www.renovationcitychurch.com/event/family-life-group-4/
LOCATION:Renovation City Church\, 2101 Garden Rd\, Pearland\, TX\, 77581\, United States
CATEGORIES:Bible Study,Fellowship
ATTACH;FMTTYPE=image/png:https://www.renovationcitychurch.com/wp-content/uploads/2025/06/Prayer-Meeting.png
END:VEVENT
BEGIN:VEVENT
DTSTART;TZID=America/Chicago:20251030T100000
DTEND;TZID=America/Chicago:20251030T110000
DTSTAMP:20260423T180431
CREATED:20251026T172105Z
LAST-MODIFIED:20251026T172105Z
UID:2510-1761818400-1761822000@www.renovationcitychurch.com
SUMMARY:What Happens When Women Pray: Book Study
DESCRIPTION:All are welcome to come and be led in discussion and teaching on biblical and practical ways to enter into dynamic\, life changing prayer. Whether you can come once or to all 6 sessions\, please join and bring a friend! See Diana Clark or Wanda Freeman for more information. Held in the Fellowship Hall of RCC.
URL:https://www.renovationcitychurch.com/event/what-happens-when-women-pray-book-study-4/
LOCATION:Renovation City Church\, 2101 Garden Rd\, Pearland\, TX\, 77581\, United States
CATEGORIES:Bible Study,Fellowship
ATTACH;FMTTYPE=image/png:https://www.renovationcitychurch.com/wp-content/uploads/2025/09/Womens-Prayer-Meeting.png
END:VEVENT
BEGIN:VEVENT
DTSTART;TZID=America/Chicago:20251029T180000
DTEND;TZID=America/Chicago:20251029T200000
DTSTAMP:20260423T180431
CREATED:20251019T005545Z
LAST-MODIFIED:20251019T005545Z
UID:2495-1761760800-1761768000@www.renovationcitychurch.com
SUMMARY:Youth Scavenger Hunt
DESCRIPTION:Prizes\, food\, candy and more. Bring a friend!
URL:https://www.renovationcitychurch.com/event/youth-scavenger-hunt/
LOCATION:Renovation City Church\, 2101 Garden Rd\, Pearland\, TX\, 77581\, United States
CATEGORIES:Outreach
ATTACH;FMTTYPE=image/png:https://www.renovationcitychurch.com/wp-content/uploads/2025/10/Scavenger-Hunt-Education-Game-Presentation-in-Yellow-and-Orange-Fun-Style.png
END:VEVENT
BEGIN:VEVENT
DTSTART;TZID=America/Chicago:20251026T090000
DTEND;TZID=America/Chicago:20251026T100000
DTSTAMP:20260423T180431
CREATED:20251019T000101Z
LAST-MODIFIED:20251019T000101Z
UID:2488-1761469200-1761472800@www.renovationcitychurch.com
SUMMARY:Life Group
DESCRIPTION:We will be studying the book of Colossians. A children’s Sunday School will be provided during the Life Group.
URL:https://www.renovationcitychurch.com/event/life-group/
LOCATION:Renovation City Church\, 2101 Garden Rd\, Pearland\, TX\, 77581\, United States
CATEGORIES:Bible Study,Fellowship
ATTACH;FMTTYPE=image/png:https://www.renovationcitychurch.com/wp-content/uploads/2025/06/Prayer-Meeting.png
END:VEVENT
BEGIN:VEVENT
DTSTART;TZID=America/Chicago:20251025T130000
DTEND;TZID=America/Chicago:20251025T180000
DTSTAMP:20260423T180431
CREATED:20251019T003756Z
LAST-MODIFIED:20251019T003756Z
UID:2490-1761397200-1761415200@www.renovationcitychurch.com
SUMMARY:Chick-Fil-A Fall Festival
DESCRIPTION:We need volunteers to help serve at 10105 Broadway St. Pearland\, TX 77584. Help us support this restaurant that is donating meals for our Youth Group this next year. Please see Major Craft for more information.
URL:https://www.renovationcitychurch.com/event/chick-fil-a-fall-festival/
LOCATION:Chick-Fil-A Pearland\, 10105 Broadway St.\, Pearland\, TX\, 77584\, United States
ATTACH;FMTTYPE=image/png:https://www.renovationcitychurch.com/wp-content/uploads/2025/10/Colorful-Watercolor-Illustrative-Pumpkin-And-Leaf-Autumn-Harvest-Festival-Flyer-scaled.png
END:VEVENT
BEGIN:VEVENT
DTSTART;TZID=America/Chicago:20251023T100000
DTEND;TZID=America/Chicago:20251023T110000
DTSTAMP:20260423T180431
CREATED:20251018T235804Z
LAST-MODIFIED:20251018T235804Z
UID:2486-1761213600-1761217200@www.renovationcitychurch.com
SUMMARY:What Happens When Women Pray: Book Study
DESCRIPTION:All are welcome to come and be led in discussion and teaching on biblical and practical ways to enter into dynamic\, life changing prayer. Whether you can come once or to all 6 sessions\, please join and bring a friend! See Diana Clark or Wanda Freeman for more information. Held in the Fellowship Hall of RCC.
URL:https://www.renovationcitychurch.com/event/what-happens-when-women-pray-book-study-3/
LOCATION:Renovation City Church\, 2101 Garden Rd\, Pearland\, TX\, 77581\, United States
CATEGORIES:Bible Study,Fellowship
ATTACH;FMTTYPE=image/png:https://www.renovationcitychurch.com/wp-content/uploads/2025/09/Womens-Prayer-Meeting.png
END:VEVENT
BEGIN:VEVENT
DTSTART;TZID=America/Chicago:20251022T183000
DTEND;TZID=America/Chicago:20251022T200000
DTSTAMP:20260423T180431
CREATED:20251018T235429Z
LAST-MODIFIED:20251018T235429Z
UID:2484-1761157800-1761163200@www.renovationcitychurch.com
SUMMARY:Prayer Meeting
DESCRIPTION:Join us in the Fellowship Hall as we gather for a brief time of prayer to honor our awesome God and pray for our members\, our neighbors and our world.
URL:https://www.renovationcitychurch.com/event/prayer-meeting-6/
LOCATION:Renovation City Church\, 2101 Garden Rd\, Pearland\, TX\, 77581\, United States
CATEGORIES:Prayer
ATTACH;FMTTYPE=image/png:https://www.renovationcitychurch.com/wp-content/uploads/2025/08/Corporate-Prayer-1.png
END:VEVENT
BEGIN:VEVENT
DTSTART;TZID=America/Chicago:20251022T180000
DTEND;TZID=America/Chicago:20251022T200000
DTSTAMP:20260423T180431
CREATED:20251018T235158Z
LAST-MODIFIED:20251018T235240Z
UID:2481-1761156000-1761163200@www.renovationcitychurch.com
SUMMARY:Renovators Youth Group
DESCRIPTION:Join grades 5th through 12th in the sanctuary for fun activities\, food\, fellowship and an encouraging Word. Invite a friend!
URL:https://www.renovationcitychurch.com/event/renovators-youth-group-5/
LOCATION:Renovation City Church\, 2101 Garden Rd\, Pearland\, TX\, 77581\, United States
CATEGORIES:Fellowship
ATTACH;FMTTYPE=image/png:https://www.renovationcitychurch.com/wp-content/uploads/2025/09/Renovators-1.png
END:VEVENT
BEGIN:VEVENT
DTSTART;TZID=America/Chicago:20251015T180000
DTEND;TZID=America/Chicago:20251015T200000
DTSTAMP:20260423T180431
CREATED:20251015T223236Z
LAST-MODIFIED:20251015T223236Z
UID:2467-1760551200-1760558400@www.renovationcitychurch.com
SUMMARY:Renovators Youth Group
DESCRIPTION:Join grades 5th through 12th in the sanctuary for fun activities\, food\, fellowship and an encouraging Word. Invite a friend!
URL:https://www.renovationcitychurch.com/event/renovators-youth-group-4/
LOCATION:Renovation City Church\, 2101 Garden Rd\, Pearland\, TX\, 77581\, United States
CATEGORIES:Fellowship
ATTACH;FMTTYPE=image/png:https://www.renovationcitychurch.com/wp-content/uploads/2025/09/Renovators-1.png
END:VEVENT
BEGIN:VEVENT
DTSTART;TZID=America/Chicago:20251015T173000
DTEND;TZID=America/Chicago:20251015T200000
DTSTAMP:20260423T180431
CREATED:20251015T224251Z
LAST-MODIFIED:20251015T224251Z
UID:2469-1760549400-1760558400@www.renovationcitychurch.com
SUMMARY:Prayer Meeting
DESCRIPTION:Join us in the Fellowship Hall as we gather for a brief time of prayer to honor our awesome God and pray for our members\, our neighbors and our world.
URL:https://www.renovationcitychurch.com/event/prayer-meeting-5/
LOCATION:Renovation City Church\, 2101 Garden Rd\, Pearland\, TX\, 77581\, United States
CATEGORIES:Prayer
ATTACH;FMTTYPE=image/png:https://www.renovationcitychurch.com/wp-content/uploads/2025/08/Corporate-Prayer-1.png
END:VEVENT
BEGIN:VEVENT
DTSTART;TZID=America/Chicago:20251012T090000
DTEND;TZID=America/Chicago:20251012T100000
DTSTAMP:20260423T180431
CREATED:20251009T155603Z
LAST-MODIFIED:20251009T155603Z
UID:2465-1760259600-1760263200@www.renovationcitychurch.com
SUMMARY:Family Life Group
DESCRIPTION:Join us before church for the last meeting in our Money Challenge Life Group that applies the sermon series on Generosity and dives into God’s Word on living a generous life. Kids are welcome to join the discussion and fellowship as we grow in our faith and relationships together. Contact Robert Clark for more information.
URL:https://www.renovationcitychurch.com/event/family-life-group-3/
LOCATION:Renovation City Church\, 2101 Garden Rd\, Pearland\, TX\, 77581\, United States
CATEGORIES:Bible Study,Fellowship
ATTACH;FMTTYPE=image/png:https://www.renovationcitychurch.com/wp-content/uploads/2025/06/Prayer-Meeting.png
END:VEVENT
BEGIN:VEVENT
DTSTART;TZID=America/Chicago:20251009T100000
DTEND;TZID=America/Chicago:20251009T110000
DTSTAMP:20260423T180431
CREATED:20251009T155023Z
LAST-MODIFIED:20251009T155023Z
UID:2463-1760004000-1760007600@www.renovationcitychurch.com
SUMMARY:What Happens When Women Pray: Book Study
DESCRIPTION:All are welcome to come and be led in discussion and teaching on biblical and practical ways to enter into dynamic\, life changing prayer. Whether you can come once or to all 6 sessions\, please join and bring a friend! See Diana Clark or Wanda Freeman for more information. Held in the Fellowship Hall of RCC.
URL:https://www.renovationcitychurch.com/event/what-happens-when-women-pray-book-study-2/
LOCATION:Renovation City Church\, 2101 Garden Rd\, Pearland\, TX\, 77581\, United States
CATEGORIES:Bible Study,Fellowship
ATTACH;FMTTYPE=image/png:https://www.renovationcitychurch.com/wp-content/uploads/2025/09/Womens-Prayer-Meeting.png
END:VEVENT
BEGIN:VEVENT
DTSTART;TZID=America/Chicago:20251008T183000
DTEND;TZID=America/Chicago:20251008T200000
DTSTAMP:20260423T180431
CREATED:20251009T154652Z
LAST-MODIFIED:20251009T154732Z
UID:2460-1759948200-1759953600@www.renovationcitychurch.com
SUMMARY:Prayer Meeting
DESCRIPTION:Join us in the Fellowship Hall as we gather for a brief time of prayer to honor our awesome God and pray for our members\, our neighbors and our world.
URL:https://www.renovationcitychurch.com/event/prayer-meeting-4/
LOCATION:Renovation City Church\, 2101 Garden Rd\, Pearland\, TX\, 77581\, United States
CATEGORIES:Prayer
ATTACH;FMTTYPE=image/png:https://www.renovationcitychurch.com/wp-content/uploads/2025/08/Corporate-Prayer-1.png
END:VEVENT
BEGIN:VEVENT
DTSTART;TZID=America/Chicago:20251008T180000
DTEND;TZID=America/Chicago:20251008T200000
DTSTAMP:20260423T180431
CREATED:20251009T154524Z
LAST-MODIFIED:20251009T154524Z
UID:2458-1759946400-1759953600@www.renovationcitychurch.com
SUMMARY:Renovators Youth Group
DESCRIPTION:Join grades 5th through 12th in the sanctuary for fun activities\, food\, fellowship and an encouraging Word. Invite a friend!
URL:https://www.renovationcitychurch.com/event/renovators-youth-group-3/
LOCATION:Renovation City Church\, 2101 Garden Rd\, Pearland\, TX\, 77581\, United States
CATEGORIES:Fellowship
ATTACH;FMTTYPE=image/png:https://www.renovationcitychurch.com/wp-content/uploads/2025/09/Renovators-1.png
END:VEVENT
BEGIN:VEVENT
DTSTART;TZID=America/Chicago:20250928T090000
DTEND;TZID=America/Chicago:20250928T100000
DTSTAMP:20260423T180431
CREATED:20250923T134135Z
LAST-MODIFIED:20250923T134135Z
UID:2431-1759050000-1759053600@www.renovationcitychurch.com
SUMMARY:Family Life Group
DESCRIPTION:Join us before church for a 4-week Life Group that applies the sermon series on Generosity and dives into God’s Word on living a generous life. Kids are welcome to join the discussion and fellowship as we grow in our faith and relationships together. Contact Robert Clark for more information.
URL:https://www.renovationcitychurch.com/event/family-life-group-2/
LOCATION:Renovation City Church\, 2101 Garden Rd\, Pearland\, TX\, 77581\, United States
CATEGORIES:Bible Study
ATTACH;FMTTYPE=image/png:https://www.renovationcitychurch.com/wp-content/uploads/2025/06/Prayer-Meeting.png
END:VEVENT
BEGIN:VEVENT
DTSTART;TZID=America/Chicago:20250928T080000
DTEND;TZID=America/Chicago:20250928T170000
DTSTAMP:20260423T180431
CREATED:20250923T140132Z
LAST-MODIFIED:20250923T140132Z
UID:2435-1759046400-1759078800@www.renovationcitychurch.com
SUMMARY:Christian Helping Hands
DESCRIPTION:We are supporting Christian Helping Hands by collecting non-perishable items for donation by September 28th. Please contact Wanda.
URL:https://www.renovationcitychurch.com/event/christian-helping-hands/
LOCATION:Renovation City Church\, 2101 Garden Rd\, Pearland\, TX\, 77581\, United States
CATEGORIES:Fellowship,Outreach,Prayer
ATTACH;FMTTYPE=image/png:https://www.renovationcitychurch.com/wp-content/uploads/2025/09/Firefly_A-collection-of-canned-food-774017.png
END:VEVENT
BEGIN:VEVENT
DTSTART;TZID=America/Chicago:20250925T100000
DTEND;TZID=America/Chicago:20250925T233000
DTSTAMP:20260423T180431
CREATED:20250916T182528Z
LAST-MODIFIED:20250916T182528Z
UID:2418-1758794400-1758843000@www.renovationcitychurch.com
SUMMARY:What Happens When Women Pray: Book Study
DESCRIPTION:All are welcome to come and be led in discussion and teaching on biblical and practical ways to enter into dynamic\, life changing prayer. Whether you can come once or to all 6 sessions\, please join and bring a friend! See Diana Clark or Wanda Freeman for more information. Held in the Fellowship Hall of RCC.
URL:https://www.renovationcitychurch.com/event/what-happens-when-women-pray-book-study/
LOCATION:Renovation City Church\, 2101 Garden Rd\, Pearland\, TX\, 77581\, United States
CATEGORIES:Bible Study
ATTACH;FMTTYPE=image/png:https://www.renovationcitychurch.com/wp-content/uploads/2025/06/Womens-Bible-Study.png
END:VEVENT
BEGIN:VEVENT
DTSTART;TZID=America/Chicago:20250924T183000
DTEND;TZID=America/Chicago:20250924T193000
DTSTAMP:20260423T180431
CREATED:20250923T133637Z
LAST-MODIFIED:20250923T133637Z
UID:2427-1758738600-1758742200@www.renovationcitychurch.com
SUMMARY:Prayer Meeting
DESCRIPTION:Join us in the Fellowship Hall as we gather for a brief time of prayer to honor our awesome God and pray for our members\, our neighbors and our world.
URL:https://www.renovationcitychurch.com/event/prayer-meeting-3/
LOCATION:Renovation City Church\, 2101 Garden Rd\, Pearland\, TX\, 77581\, United States
CATEGORIES:Prayer
ATTACH;FMTTYPE=image/png:https://www.renovationcitychurch.com/wp-content/uploads/2025/08/Corporate-Prayer-1.png
END:VEVENT
BEGIN:VEVENT
DTSTART;TZID=America/Chicago:20250924T180000
DTEND;TZID=America/Chicago:20250924T200000
DTSTAMP:20260423T180431
CREATED:20250923T133838Z
LAST-MODIFIED:20250923T133838Z
UID:2429-1758736800-1758744000@www.renovationcitychurch.com
SUMMARY:Renovators Youth Group
DESCRIPTION:Join grades 5th through 12th in the sanctuary for fun activities\, food\, fellowship and an encouraging Word. Invite a friend!
URL:https://www.renovationcitychurch.com/event/renovators-youth-group-2/
LOCATION:Renovation City Church\, 2101 Garden Rd\, Pearland\, TX\, 77581\, United States
CATEGORIES:Fellowship
ATTACH;FMTTYPE=image/png:https://www.renovationcitychurch.com/wp-content/uploads/2025/09/Renovators-1.png
END:VEVENT
BEGIN:VEVENT
DTSTART;TZID=America/Chicago:20250921T090000
DTEND;TZID=America/Chicago:20250921T100000
DTSTAMP:20260423T180431
CREATED:20250916T181643Z
LAST-MODIFIED:20250916T184023Z
UID:2416-1758445200-1758448800@www.renovationcitychurch.com
SUMMARY:Family Life Group
DESCRIPTION:Join us before church for a 4-week Life Group that applies the sermon series on Generosity and dives into God’s Word on living a generous life. Kids are welcome to join the discussion and fellowship as we grow in our faith and relationships together. Contact Robert Clark for more information.
URL:https://www.renovationcitychurch.com/event/family-life-group/
LOCATION:Renovation City Church\, 2101 Garden Rd\, Pearland\, TX\, 77581\, United States
CATEGORIES:Fellowship
ATTACH;FMTTYPE=image/png:https://www.renovationcitychurch.com/wp-content/uploads/2025/06/Prayer-Meeting.png
END:VEVENT
BEGIN:VEVENT
DTSTART;TZID=America/Chicago:20250917T183000
DTEND;TZID=America/Chicago:20250917T193000
DTSTAMP:20260423T180431
CREATED:20250916T175615Z
LAST-MODIFIED:20250916T180628Z
UID:2412-1758133800-1758137400@www.renovationcitychurch.com
SUMMARY:Prayer Meeting
DESCRIPTION:Join us in the Fellowship Hall as we gather for a brief time of prayer to honor our awesome God and pray for our members\, our neighbors and our world.
URL:https://www.renovationcitychurch.com/event/prayer-meeting-2/
LOCATION:Renovation City Church\, 2101 Garden Rd\, Pearland\, TX\, 77581\, United States
CATEGORIES:Prayer
ATTACH;FMTTYPE=image/png:https://www.renovationcitychurch.com/wp-content/uploads/2025/08/Corporate-Prayer-1.png
END:VEVENT
BEGIN:VEVENT
DTSTART;TZID=America/Chicago:20250917T180000
DTEND;TZID=America/Chicago:20250917T193000
DTSTAMP:20260423T180431
CREATED:20250916T180410Z
LAST-MODIFIED:20250916T180410Z
UID:2414-1758132000-1758137400@www.renovationcitychurch.com
SUMMARY:Renovators Youth Group
DESCRIPTION:Join grades 5th through 12th in the sanctuary for fun activities\, food\, fellowship and an encouraging Word. Invite a friend!
URL:https://www.renovationcitychurch.com/event/renovators-youth-group/
LOCATION:Renovation City Church\, 2101 Garden Rd\, Pearland\, TX\, 77581\, United States
CATEGORIES:Fellowship
ATTACH;FMTTYPE=image/png:https://www.renovationcitychurch.com/wp-content/uploads/2025/09/Renovators-1.png
END:VEVENT
END:VCALENDAR