BEGIN:VCALENDAR
VERSION:2.0
PRODID:-//Renovation City Church - ECPv6.15.20//NONSGML v1.0//EN
CALSCALE:GREGORIAN
METHOD:PUBLISH
X-WR-CALNAME:Renovation City Church
X-ORIGINAL-URL:https://www.renovationcitychurch.com
X-WR-CALDESC:Events for Renovation City Church
REFRESH-INTERVAL;VALUE=DURATION:PT1H
X-Robots-Tag:noindex
X-PUBLISHED-TTL:PT1H
BEGIN:VTIMEZONE
TZID:America/Chicago
BEGIN:DAYLIGHT
TZOFFSETFROM:-0600
TZOFFSETTO:-0500
TZNAME:CDT
DTSTART:20240310T080000
END:DAYLIGHT
BEGIN:STANDARD
TZOFFSETFROM:-0500
TZOFFSETTO:-0600
TZNAME:CST
DTSTART:20241103T070000
END:STANDARD
BEGIN:DAYLIGHT
TZOFFSETFROM:-0600
TZOFFSETTO:-0500
TZNAME:CDT
DTSTART:20250309T080000
END:DAYLIGHT
BEGIN:STANDARD
TZOFFSETFROM:-0500
TZOFFSETTO:-0600
TZNAME:CST
DTSTART:20251102T070000
END:STANDARD
BEGIN:DAYLIGHT
TZOFFSETFROM:-0600
TZOFFSETTO:-0500
TZNAME:CDT
DTSTART:20260308T080000
END:DAYLIGHT
BEGIN:STANDARD
TZOFFSETFROM:-0500
TZOFFSETTO:-0600
TZNAME:CST
DTSTART:20261101T070000
END:STANDARD
END:VTIMEZONE
BEGIN:VEVENT
DTSTART;TZID=America/Chicago:20250928T080000
DTEND;TZID=America/Chicago:20250928T170000
DTSTAMP:20260423T134138
CREATED:20250923T140132Z
LAST-MODIFIED:20250923T140132Z
UID:2435-1759046400-1759078800@www.renovationcitychurch.com
SUMMARY:Christian Helping Hands
DESCRIPTION:We are supporting Christian Helping Hands by collecting non-perishable items for donation by September 28th. Please contact Wanda.
URL:https://www.renovationcitychurch.com/event/christian-helping-hands/
LOCATION:Renovation City Church\, 2101 Garden Rd\, Pearland\, TX\, 77581\, United States
CATEGORIES:Fellowship,Outreach,Prayer
ATTACH;FMTTYPE=image/png:https://www.renovationcitychurch.com/wp-content/uploads/2025/09/Firefly_A-collection-of-canned-food-774017.png
END:VEVENT
BEGIN:VEVENT
DTSTART;TZID=America/Chicago:20250924T183000
DTEND;TZID=America/Chicago:20250924T193000
DTSTAMP:20260423T134138
CREATED:20250923T133637Z
LAST-MODIFIED:20250923T133637Z
UID:2427-1758738600-1758742200@www.renovationcitychurch.com
SUMMARY:Prayer Meeting
DESCRIPTION:Join us in the Fellowship Hall as we gather for a brief time of prayer to honor our awesome God and pray for our members\, our neighbors and our world.
URL:https://www.renovationcitychurch.com/event/prayer-meeting-3/
LOCATION:Renovation City Church\, 2101 Garden Rd\, Pearland\, TX\, 77581\, United States
CATEGORIES:Prayer
ATTACH;FMTTYPE=image/png:https://www.renovationcitychurch.com/wp-content/uploads/2025/08/Corporate-Prayer-1.png
END:VEVENT
BEGIN:VEVENT
DTSTART;TZID=America/Chicago:20250917T183000
DTEND;TZID=America/Chicago:20250917T193000
DTSTAMP:20260423T134138
CREATED:20250916T175615Z
LAST-MODIFIED:20250916T180628Z
UID:2412-1758133800-1758137400@www.renovationcitychurch.com
SUMMARY:Prayer Meeting
DESCRIPTION:Join us in the Fellowship Hall as we gather for a brief time of prayer to honor our awesome God and pray for our members\, our neighbors and our world.
URL:https://www.renovationcitychurch.com/event/prayer-meeting-2/
LOCATION:Renovation City Church\, 2101 Garden Rd\, Pearland\, TX\, 77581\, United States
CATEGORIES:Prayer
ATTACH;FMTTYPE=image/png:https://www.renovationcitychurch.com/wp-content/uploads/2025/08/Corporate-Prayer-1.png
END:VEVENT
BEGIN:VEVENT
DTSTART;TZID=America/Chicago:20250911T100000
DTEND;TZID=America/Chicago:20250911T113000
DTSTAMP:20260423T134138
CREATED:20250908T175241Z
LAST-MODIFIED:20250908T175241Z
UID:2405-1757584800-1757590200@www.renovationcitychurch.com
SUMMARY:Women's Prayer Meeting
DESCRIPTION:
URL:https://www.renovationcitychurch.com/event/womens-prayer-meeting/
LOCATION:Renovation City Church\, 2101 Garden Rd\, Pearland\, TX\, 77581\, United States
CATEGORIES:Prayer
ATTACH;FMTTYPE=image/png:https://www.renovationcitychurch.com/wp-content/uploads/2025/09/Womens-Prayer-Meeting.png
END:VEVENT
BEGIN:VEVENT
DTSTART;TZID=America/Chicago:20250903T183000
DTEND;TZID=America/Chicago:20250903T193000
DTSTAMP:20260423T134138
CREATED:20250901T200726Z
LAST-MODIFIED:20250901T200726Z
UID:2385-1756924200-1756927800@www.renovationcitychurch.com
SUMMARY:Corporate Prayer
DESCRIPTION:
URL:https://www.renovationcitychurch.com/event/corporate-prayer-2/
LOCATION:Renovation City Church\, 2101 Garden Rd\, Pearland\, TX\, 77581\, United States
CATEGORIES:Prayer
ATTACH;FMTTYPE=image/png:https://www.renovationcitychurch.com/wp-content/uploads/2025/08/Corporate-Prayer-1.png
END:VEVENT
BEGIN:VEVENT
DTSTART;TZID=America/Chicago:20250820T183000
DTEND;TZID=America/Chicago:20250820T193000
DTSTAMP:20260423T134138
CREATED:20250818T043754Z
LAST-MODIFIED:20250818T043754Z
UID:2314-1755714600-1755718200@www.renovationcitychurch.com
SUMMARY:Corporate Prayer
DESCRIPTION:
URL:https://www.renovationcitychurch.com/event/corporate-prayer/
LOCATION:Renovation City Church\, 2101 Garden Rd\, Pearland\, TX\, 77581\, United States
CATEGORIES:Prayer
ATTACH;FMTTYPE=image/png:https://www.renovationcitychurch.com/wp-content/uploads/2025/08/Corporate-Prayer-1.png
END:VEVENT
BEGIN:VEVENT
DTSTART;TZID=America/Chicago:20250702T183000
DTEND;TZID=America/Chicago:20250702T193000
DTSTAMP:20260423T134138
CREATED:20250629T231706Z
LAST-MODIFIED:20250629T231706Z
UID:2213-1751481000-1751484600@www.renovationcitychurch.com
SUMMARY:Prayer Meeting
DESCRIPTION:
URL:https://www.renovationcitychurch.com/event/prayer-meeting/
LOCATION:Renovation City Church\, 2101 Garden Rd\, Pearland\, TX\, 77581\, United States
CATEGORIES:Prayer
ATTACH;FMTTYPE=image/png:https://www.renovationcitychurch.com/wp-content/uploads/2025/06/Prayer-Meeting.png
END:VEVENT
END:VCALENDAR