BEGIN:VCALENDAR
VERSION:2.0
PRODID:-//Renovation City Church - ECPv6.15.20//NONSGML v1.0//EN
CALSCALE:GREGORIAN
METHOD:PUBLISH
X-WR-CALNAME:Renovation City Church
X-ORIGINAL-URL:https://www.renovationcitychurch.com
X-WR-CALDESC:Events for Renovation City Church
REFRESH-INTERVAL;VALUE=DURATION:PT1H
X-Robots-Tag:noindex
X-PUBLISHED-TTL:PT1H
BEGIN:VTIMEZONE
TZID:America/Chicago
BEGIN:DAYLIGHT
TZOFFSETFROM:-0600
TZOFFSETTO:-0500
TZNAME:CDT
DTSTART:20250309T080000
END:DAYLIGHT
BEGIN:STANDARD
TZOFFSETFROM:-0500
TZOFFSETTO:-0600
TZNAME:CST
DTSTART:20251102T070000
END:STANDARD
BEGIN:DAYLIGHT
TZOFFSETFROM:-0600
TZOFFSETTO:-0500
TZNAME:CDT
DTSTART:20260308T080000
END:DAYLIGHT
BEGIN:STANDARD
TZOFFSETFROM:-0500
TZOFFSETTO:-0600
TZNAME:CST
DTSTART:20261101T070000
END:STANDARD
BEGIN:DAYLIGHT
TZOFFSETFROM:-0600
TZOFFSETTO:-0500
TZNAME:CDT
DTSTART:20270314T080000
END:DAYLIGHT
BEGIN:STANDARD
TZOFFSETFROM:-0500
TZOFFSETTO:-0600
TZNAME:CST
DTSTART:20271107T070000
END:STANDARD
END:VTIMEZONE
BEGIN:VEVENT
DTSTART;TZID=America/Chicago:20260107T183000
DTEND;TZID=America/Chicago:20260107T200000
DTSTAMP:20260423T190307
CREATED:20260106T180552Z
LAST-MODIFIED:20260106T180552Z
UID:2601-1767810600-1767816000@www.renovationcitychurch.com
SUMMARY:Prayer Meeting
DESCRIPTION:Join us in the Fellowship Hall as we gather for a brief time of prayer to honor our awesome God and pray for our members\, our neighbors and our world.
URL:https://www.renovationcitychurch.com/event/prayer-meeting-13/
LOCATION:Renovation City Church\, 2101 Garden Rd\, Pearland\, TX\, 77581\, United States
CATEGORIES:Prayer
ATTACH;FMTTYPE=image/png:https://www.renovationcitychurch.com/wp-content/uploads/2025/08/Corporate-Prayer-1.png
END:VEVENT
BEGIN:VEVENT
DTSTART;TZID=America/Chicago:20260114T183000
DTEND;TZID=America/Chicago:20260114T200000
DTSTAMP:20260423T190307
CREATED:20260112T174248Z
LAST-MODIFIED:20260112T174248Z
UID:2624-1768415400-1768420800@www.renovationcitychurch.com
SUMMARY:Prayer Meeting
DESCRIPTION:Join us in the Fellowship Hall as we gather for a brief time of prayer to honor our awesome God and pray for our members\, our neighbors and our world.
URL:https://www.renovationcitychurch.com/event/prayer-meeting-14/
LOCATION:Renovation City Church\, 2101 Garden Rd\, Pearland\, TX\, 77581\, United States
CATEGORIES:Prayer
ATTACH;FMTTYPE=image/png:https://www.renovationcitychurch.com/wp-content/uploads/2025/08/Corporate-Prayer-1.png
END:VEVENT
BEGIN:VEVENT
DTSTART;TZID=America/Chicago:20260121T183000
DTEND;TZID=America/Chicago:20260121T200000
DTSTAMP:20260423T190307
CREATED:20260121T161256Z
LAST-MODIFIED:20260121T161256Z
UID:2637-1769020200-1769025600@www.renovationcitychurch.com
SUMMARY:Prayer Meeting
DESCRIPTION:Join us in the Fellowship Hall as we gather for a brief time of prayer to honor our awesome God and pray for our members\, our neighbors and our world.
URL:https://www.renovationcitychurch.com/event/prayer-meeting-15/
LOCATION:Renovation City Church\, 2101 Garden Rd\, Pearland\, TX\, 77581\, United States
CATEGORIES:Prayer
ATTACH;FMTTYPE=image/png:https://www.renovationcitychurch.com/wp-content/uploads/2025/08/Corporate-Prayer-1.png
END:VEVENT
BEGIN:VEVENT
DTSTART;TZID=America/Chicago:20260201T100000
DTEND;TZID=America/Chicago:20260201T110000
DTSTAMP:20260423T190307
CREATED:20260106T195430Z
LAST-MODIFIED:20260121T161810Z
UID:2610-1769940000-1769943600@www.renovationcitychurch.com
SUMMARY:COUNT ME IN!!!
DESCRIPTION:Be a part of “Renovating our City with God’s Blueprint”!
URL:https://www.renovationcitychurch.com/event/count-me-in/
LOCATION:Renovation City Church\, 2101 Garden Rd\, Pearland\, TX\, 77581\, United States
CATEGORIES:Prayer,Worship Service
ATTACH;FMTTYPE=image/png:https://www.renovationcitychurch.com/wp-content/uploads/2026/01/Count-Me-In.png
END:VEVENT
BEGIN:VEVENT
DTSTART;TZID=America/Chicago:20260204T183000
DTEND;TZID=America/Chicago:20260204T200000
DTSTAMP:20260423T190307
CREATED:20260204T045134Z
LAST-MODIFIED:20260204T045134Z
UID:2672-1770229800-1770235200@www.renovationcitychurch.com
SUMMARY:Prayer Meeting
DESCRIPTION:Join us in the Fellowship Hall as we gather for a brief time of prayer to honor our awesome God and pray for our members\, our neighbors and our world.
URL:https://www.renovationcitychurch.com/event/prayer-meeting-16/
LOCATION:Renovation City Church\, 2101 Garden Rd\, Pearland\, TX\, 77581\, United States
CATEGORIES:Prayer
ATTACH;FMTTYPE=image/png:https://www.renovationcitychurch.com/wp-content/uploads/2025/08/Corporate-Prayer-1.png
END:VEVENT
BEGIN:VEVENT
DTSTART;TZID=America/Chicago:20260225T183000
DTEND;TZID=America/Chicago:20260225T200000
DTSTAMP:20260423T190307
CREATED:20260224T154356Z
LAST-MODIFIED:20260224T154356Z
UID:2763-1772044200-1772049600@www.renovationcitychurch.com
SUMMARY:Prayer Meeting
DESCRIPTION:Join us in the Fellowship Hall as we gather for a brief time of prayer to honor our awesome God and pray for our members\, our neighbors and our world.
URL:https://www.renovationcitychurch.com/event/prayer-meeting-17/
LOCATION:Renovation City Church\, 2101 Garden Rd\, Pearland\, TX\, 77581\, United States
CATEGORIES:Prayer
ATTACH;FMTTYPE=image/png:https://www.renovationcitychurch.com/wp-content/uploads/2025/08/Corporate-Prayer-1.png
END:VEVENT
BEGIN:VEVENT
DTSTART;TZID=America/Chicago:20260304T183000
DTEND;TZID=America/Chicago:20260304T200000
DTSTAMP:20260423T190307
CREATED:20260303T163003Z
LAST-MODIFIED:20260303T163003Z
UID:2777-1772649000-1772654400@www.renovationcitychurch.com
SUMMARY:Prayer Meeting
DESCRIPTION:Join us in the Fellowship Hall as we gather for a brief time of prayer to honor our awesome God and pray for our members\, our neighbors and our world.
URL:https://www.renovationcitychurch.com/event/prayer-meeting-18/
LOCATION:Renovation City Church\, 2101 Garden Rd\, Pearland\, TX\, 77581\, United States
CATEGORIES:Prayer
ATTACH;FMTTYPE=image/png:https://www.renovationcitychurch.com/wp-content/uploads/2025/08/Corporate-Prayer-1.png
END:VEVENT
BEGIN:VEVENT
DTSTART;TZID=America/Chicago:20260311T183000
DTEND;TZID=America/Chicago:20260311T200000
DTSTAMP:20260423T190307
CREATED:20260303T163059Z
LAST-MODIFIED:20260303T163059Z
UID:2779-1773253800-1773259200@www.renovationcitychurch.com
SUMMARY:Prayer Meeting
DESCRIPTION:Join us in the Fellowship Hall as we gather for a brief time of prayer to honor our awesome God and pray for our members\, our neighbors and our world.
URL:https://www.renovationcitychurch.com/event/prayer-meeting-19/
LOCATION:Renovation City Church\, 2101 Garden Rd\, Pearland\, TX\, 77581\, United States
CATEGORIES:Prayer
ATTACH;FMTTYPE=image/png:https://www.renovationcitychurch.com/wp-content/uploads/2025/08/Corporate-Prayer-1.png
END:VEVENT
BEGIN:VEVENT
DTSTART;TZID=America/Chicago:20260318T183000
DTEND;TZID=America/Chicago:20260318T200000
DTSTAMP:20260423T190307
CREATED:20260303T163153Z
LAST-MODIFIED:20260303T163153Z
UID:2781-1773858600-1773864000@www.renovationcitychurch.com
SUMMARY:Prayer Meeting
DESCRIPTION:Join us in the Fellowship Hall as we gather for a brief time of prayer to honor our awesome God and pray for our members\, our neighbors and our world.
URL:https://www.renovationcitychurch.com/event/prayer-meeting-20/
LOCATION:Renovation City Church\, 2101 Garden Rd\, Pearland\, TX\, 77581\, United States
CATEGORIES:Prayer
ATTACH;FMTTYPE=image/png:https://www.renovationcitychurch.com/wp-content/uploads/2025/08/Corporate-Prayer-1.png
END:VEVENT
BEGIN:VEVENT
DTSTART;TZID=America/Chicago:20260422T183000
DTEND;TZID=America/Chicago:20260422T200000
DTSTAMP:20260423T190307
CREATED:20260419T231353Z
LAST-MODIFIED:20260419T231353Z
UID:2823-1776882600-1776888000@www.renovationcitychurch.com
SUMMARY:Prayer Meeting
DESCRIPTION:Join us in the Fellowship Hall as we gather for a brief time of prayer to honor our awesome God and pray for our members\, our neighbors and our world.
URL:https://www.renovationcitychurch.com/event/prayer-meeting-21/
LOCATION:Renovation City Church\, 2101 Garden Rd\, Pearland\, TX\, 77581\, United States
CATEGORIES:Prayer
ATTACH;FMTTYPE=image/png:https://www.renovationcitychurch.com/wp-content/uploads/2025/08/Corporate-Prayer-1.png
END:VEVENT
END:VCALENDAR