BEGIN:VCALENDAR
VERSION:2.0
PRODID:-//Renovation City Church - ECPv6.15.20//NONSGML v1.0//EN
CALSCALE:GREGORIAN
METHOD:PUBLISH
X-ORIGINAL-URL:https://www.renovationcitychurch.com
X-WR-CALDESC:Events for Renovation City Church
REFRESH-INTERVAL;VALUE=DURATION:PT1H
X-Robots-Tag:noindex
X-PUBLISHED-TTL:PT1H
BEGIN:VTIMEZONE
TZID:America/Chicago
BEGIN:DAYLIGHT
TZOFFSETFROM:-0600
TZOFFSETTO:-0500
TZNAME:CDT
DTSTART:20240310T080000
END:DAYLIGHT
BEGIN:STANDARD
TZOFFSETFROM:-0500
TZOFFSETTO:-0600
TZNAME:CST
DTSTART:20241103T070000
END:STANDARD
BEGIN:DAYLIGHT
TZOFFSETFROM:-0600
TZOFFSETTO:-0500
TZNAME:CDT
DTSTART:20250309T080000
END:DAYLIGHT
BEGIN:STANDARD
TZOFFSETFROM:-0500
TZOFFSETTO:-0600
TZNAME:CST
DTSTART:20251102T070000
END:STANDARD
BEGIN:DAYLIGHT
TZOFFSETFROM:-0600
TZOFFSETTO:-0500
TZNAME:CDT
DTSTART:20260308T080000
END:DAYLIGHT
BEGIN:STANDARD
TZOFFSETFROM:-0500
TZOFFSETTO:-0600
TZNAME:CST
DTSTART:20261101T070000
END:STANDARD
BEGIN:DAYLIGHT
TZOFFSETFROM:-0600
TZOFFSETTO:-0500
TZNAME:CDT
DTSTART:20270314T080000
END:DAYLIGHT
BEGIN:STANDARD
TZOFFSETFROM:-0500
TZOFFSETTO:-0600
TZNAME:CST
DTSTART:20271107T070000
END:STANDARD
END:VTIMEZONE
BEGIN:VEVENT
DTSTART;TZID=America/Chicago:20260421T180000
DTEND;TZID=America/Chicago:20260421T200000
DTSTAMP:20260423T111409
CREATED:20260419T231152Z
LAST-MODIFIED:20260419T231152Z
UID:2821-1776794400-1776801600@www.renovationcitychurch.com
SUMMARY:Renovators Youth Group
DESCRIPTION:Join grades 5th through 12th in the sanctuary for fun activities\, food\, fellowship and an encouraging Word. Invite a friend!
URL:https://www.renovationcitychurch.com/event/renovators-youth-group-19/
LOCATION:Renovation City Church\, 2101 Garden Rd\, Pearland\, TX\, 77581\, United States
CATEGORIES:Bible Study,Fellowship
ATTACH;FMTTYPE=image/png:https://www.renovationcitychurch.com/wp-content/uploads/2026/02/Renovators.png
END:VEVENT
BEGIN:VEVENT
DTSTART;TZID=America/Chicago:20260324T180000
DTEND;TZID=America/Chicago:20260324T200000
DTSTAMP:20260423T111409
CREATED:20260303T162530Z
LAST-MODIFIED:20260310T152420Z
UID:2773-1774375200-1774382400@www.renovationcitychurch.com
SUMMARY:Renovators Youth Group
DESCRIPTION:Join grades 5th through 12th in the sanctuary for fun activities\, food\, fellowship and an encouraging Word. Invite a friend!
URL:https://www.renovationcitychurch.com/event/renovators-youth-group-17/
LOCATION:Renovation City Church\, 2101 Garden Rd\, Pearland\, TX\, 77581\, United States
CATEGORIES:Bible Study,Fellowship
ATTACH;FMTTYPE=image/png:https://www.renovationcitychurch.com/wp-content/uploads/2026/02/Renovators.png
END:VEVENT
BEGIN:VEVENT
DTSTART;TZID=America/Chicago:20260320T183000
DTEND;TZID=America/Chicago:20260320T200000
DTSTAMP:20260423T111409
CREATED:20260204T044904Z
LAST-MODIFIED:20260220T153552Z
UID:2669-1774031400-1774036800@www.renovationcitychurch.com
SUMMARY:Disciple-Maker Workshop
DESCRIPTION:Learn how to invest your time in Christ-centered relationships where spiritual maturity can flourish.
URL:https://www.renovationcitychurch.com/event/disciple-maker-workshop/
LOCATION:Renovation City Church\, 2101 Garden Rd\, Pearland\, TX\, 77581\, United States
CATEGORIES:Fellowship,Outreach
ATTACH;FMTTYPE=image/png:https://www.renovationcitychurch.com/wp-content/uploads/2026/02/image0-1.png
END:VEVENT
BEGIN:VEVENT
DTSTART;TZID=America/Chicago:20260317T180000
DTEND;TZID=America/Chicago:20260317T200000
DTSTAMP:20260423T111409
CREATED:20260303T162653Z
LAST-MODIFIED:20260303T162653Z
UID:2775-1773770400-1773777600@www.renovationcitychurch.com
SUMMARY:Renovators Youth Group
DESCRIPTION:Join grades 5th through 12th in the sanctuary for fun activities\, food\, fellowship and an encouraging Word. Invite a friend!
URL:https://www.renovationcitychurch.com/event/renovators-youth-group-18/
LOCATION:Renovation City Church\, 2101 Garden Rd\, Pearland\, TX\, 77581\, United States
CATEGORIES:Bible Study,Fellowship
ATTACH;FMTTYPE=image/png:https://www.renovationcitychurch.com/wp-content/uploads/2026/02/Renovators.png
END:VEVENT
BEGIN:VEVENT
DTSTART;TZID=America/Chicago:20260303T180000
DTEND;TZID=America/Chicago:20260303T200000
DTSTAMP:20260423T111409
CREATED:20260303T162406Z
LAST-MODIFIED:20260303T162406Z
UID:2771-1772560800-1772568000@www.renovationcitychurch.com
SUMMARY:Renovators Youth Group
DESCRIPTION:Join grades 5th through 12th in the sanctuary for fun activities\, food\, fellowship and an encouraging Word. Invite a friend!
URL:https://www.renovationcitychurch.com/event/renovators-youth-group-16/
LOCATION:Renovation City Church\, 2101 Garden Rd\, Pearland\, TX\, 77581\, United States
CATEGORIES:Bible Study,Fellowship
ATTACH;FMTTYPE=image/png:https://www.renovationcitychurch.com/wp-content/uploads/2026/02/Renovators.png
END:VEVENT
BEGIN:VEVENT
DTSTART;TZID=America/Chicago:20260224T180000
DTEND;TZID=America/Chicago:20260224T200000
DTSTAMP:20260423T111409
CREATED:20260224T154140Z
LAST-MODIFIED:20260224T154140Z
UID:2760-1771956000-1771963200@www.renovationcitychurch.com
SUMMARY:Renovators Youth Group
DESCRIPTION:Join grades 5th through 12th in the sanctuary for fun activities\, food\, fellowship and an encouraging Word. Invite a friend!
URL:https://www.renovationcitychurch.com/event/renovators-youth-group-15/
LOCATION:Renovation City Church\, 2101 Garden Rd\, Pearland\, TX\, 77581\, United States
CATEGORIES:Bible Study,Fellowship
ATTACH;FMTTYPE=image/png:https://www.renovationcitychurch.com/wp-content/uploads/2026/02/Renovators.png
END:VEVENT
BEGIN:VEVENT
DTSTART;TZID=America/Chicago:20260121T180000
DTEND;TZID=America/Chicago:20260121T200000
DTSTAMP:20260423T111409
CREATED:20260121T161114Z
LAST-MODIFIED:20260121T161114Z
UID:2635-1769018400-1769025600@www.renovationcitychurch.com
SUMMARY:Renovators Youth Group
DESCRIPTION:Join grades 5th through 12th in the sanctuary for fun activities\, food\, fellowship and an encouraging Word. Invite a friend!
URL:https://www.renovationcitychurch.com/event/renovators-youth-group-14/
LOCATION:Renovation City Church\, 2101 Garden Rd\, Pearland\, TX\, 77581\, United States
CATEGORIES:Bible Study,Fellowship
ATTACH;FMTTYPE=image/png:https://www.renovationcitychurch.com/wp-content/uploads/2025/09/Renovators-1.png
END:VEVENT
BEGIN:VEVENT
DTSTART;TZID=America/Chicago:20260114T180000
DTEND;TZID=America/Chicago:20260114T200000
DTSTAMP:20260423T111409
CREATED:20260112T174412Z
LAST-MODIFIED:20260112T174412Z
UID:2626-1768413600-1768420800@www.renovationcitychurch.com
SUMMARY:Renovators Youth Group
DESCRIPTION:Join grades 5th through 12th in the sanctuary for fun activities\, food\, fellowship and an encouraging Word. Invite a friend!
URL:https://www.renovationcitychurch.com/event/renovators-youth-group-13/
LOCATION:Renovation City Church\, 2101 Garden Rd\, Pearland\, TX\, 77581\, United States
CATEGORIES:Bible Study,Fellowship
ATTACH;FMTTYPE=image/png:https://www.renovationcitychurch.com/wp-content/uploads/2025/09/Renovators-1.png
END:VEVENT
BEGIN:VEVENT
DTSTART;TZID=America/Chicago:20260111T100000
DTEND;TZID=America/Chicago:20260111T130000
DTSTAMP:20260423T111409
CREATED:20260106T182251Z
LAST-MODIFIED:20260106T182251Z
UID:2603-1768125600-1768136400@www.renovationcitychurch.com
SUMMARY:RCC 2nd Anniversary Celebration
DESCRIPTION:January 11th is the RCC 2nd Anniversary celebration! Please join us for the celebration and stay for burgers afterwards.
URL:https://www.renovationcitychurch.com/event/rcc-2nd-anniversary-celebration/
LOCATION:Renovation City Church\, 2101 Garden Rd\, Pearland\, TX\, 77581\, United States
CATEGORIES:Fellowship
ATTACH;FMTTYPE=image/png:https://www.renovationcitychurch.com/wp-content/uploads/2026/01/Anniversary-2.png
END:VEVENT
BEGIN:VEVENT
DTSTART;TZID=America/Chicago:20260107T180000
DTEND;TZID=America/Chicago:20260107T200000
DTSTAMP:20260423T111409
CREATED:20260106T180021Z
LAST-MODIFIED:20260106T180021Z
UID:2599-1767808800-1767816000@www.renovationcitychurch.com
SUMMARY:Renovators Youth Group
DESCRIPTION:Join grades 5th through 12th in the sanctuary for fun activities\, food\, fellowship and an encouraging Word. Invite a friend!
URL:https://www.renovationcitychurch.com/event/renovators-youth-group-12/
LOCATION:Renovation City Church\, 2101 Garden Rd\, Pearland\, TX\, 77581\, United States
CATEGORIES:Bible Study,Fellowship
ATTACH;FMTTYPE=image/png:https://www.renovationcitychurch.com/wp-content/uploads/2025/09/Renovators-1.png
END:VEVENT
BEGIN:VEVENT
DTSTART;TZID=America/Chicago:20251219T180000
DTEND;TZID=America/Chicago:20251219T200000
DTSTAMP:20260423T111409
CREATED:20251217T040853Z
LAST-MODIFIED:20251217T040853Z
UID:2588-1766167200-1766174400@www.renovationcitychurch.com
SUMMARY:Renovators Christmas Party
DESCRIPTION:Friday @ 6pm at the Crafts. Bring a $5 gift and a dessert.
URL:https://www.renovationcitychurch.com/event/renovators-christmas-party/
LOCATION:TX
CATEGORIES:Fellowship
ATTACH;FMTTYPE=image/jpeg:https://www.renovationcitychurch.com/wp-content/uploads/2025/12/Renovators-Christmas-Party-scaled.jpg
END:VEVENT
BEGIN:VEVENT
DTSTART;TZID=America/Chicago:20251217T180000
DTEND;TZID=America/Chicago:20251217T200000
DTSTAMP:20260423T111409
CREATED:20251217T034413Z
LAST-MODIFIED:20251217T034451Z
UID:2584-1765994400-1766001600@www.renovationcitychurch.com
SUMMARY:Renovators Youth Group
DESCRIPTION:Join grades 5th through 12th in the sanctuary for fun activities\, food\, fellowship and an encouraging Word. Invite a friend!
URL:https://www.renovationcitychurch.com/event/renovators-youth-group-11/
LOCATION:Renovation City Church\, 2101 Garden Rd\, Pearland\, TX\, 77581\, United States
CATEGORIES:Bible Study,Fellowship
ATTACH;FMTTYPE=image/png:https://www.renovationcitychurch.com/wp-content/uploads/2025/09/Renovators-1.png
END:VEVENT
BEGIN:VEVENT
DTSTART;TZID=America/Chicago:20251214T090000
DTEND;TZID=America/Chicago:20251214T100000
DTSTAMP:20260423T111409
CREATED:20251208T144546Z
LAST-MODIFIED:20251208T144546Z
UID:2572-1765702800-1765706400@www.renovationcitychurch.com
SUMMARY:Family Life Group
DESCRIPTION:Join us before church for the Hall Life Group as we prepare our hearts and minds for the celebration of the birth of our Savior. Kids are welcome to join the discussion and fellowship as we grow in our faith and relationships together. Contact Robert Clark for more information.
URL:https://www.renovationcitychurch.com/event/family-life-group-7/
LOCATION:Renovation City Church\, 2101 Garden Rd\, Pearland\, TX\, 77581\, United States
CATEGORIES:Bible Study,Fellowship
ATTACH;FMTTYPE=image/png:https://www.renovationcitychurch.com/wp-content/uploads/2025/06/Prayer-Meeting.png
END:VEVENT
BEGIN:VEVENT
DTSTART;TZID=America/Chicago:20251210T180000
DTEND;TZID=America/Chicago:20251210T200000
DTSTAMP:20260423T111409
CREATED:20251208T143558Z
LAST-MODIFIED:20251208T143558Z
UID:2568-1765389600-1765396800@www.renovationcitychurch.com
SUMMARY:Renovators Youth Group
DESCRIPTION:Join grades 5th through 12th in the sanctuary for fun activities\, food\, fellowship and an encouraging Word. Invite a friend!
URL:https://www.renovationcitychurch.com/event/renovators-youth-group-10/
LOCATION:Renovation City Church\, 2101 Garden Rd\, Pearland\, TX\, 77581\, United States
CATEGORIES:Bible Study,Fellowship
ATTACH;FMTTYPE=image/png:https://www.renovationcitychurch.com/wp-content/uploads/2025/09/Renovators-1.png
END:VEVENT
BEGIN:VEVENT
DTSTART;TZID=America/Chicago:20251206T140000
DTEND;TZID=America/Chicago:20251206T160000
DTSTAMP:20260423T111409
CREATED:20251117T200903Z
LAST-MODIFIED:20251117T200903Z
UID:2546-1765029600-1765036800@www.renovationcitychurch.com
SUMMARY:Women's Tea
DESCRIPTION:Join us for Women’s Tea!
URL:https://www.renovationcitychurch.com/event/womens-tea/
LOCATION:Renovation City Church\, 2101 Garden Rd\, Pearland\, TX\, 77581\, United States
CATEGORIES:Fellowship
ATTACH;FMTTYPE=image/png:https://www.renovationcitychurch.com/wp-content/uploads/2025/11/Womens-Tea.png
END:VEVENT
BEGIN:VEVENT
DTSTART;TZID=America/Chicago:20251203T180000
DTEND;TZID=America/Chicago:20251203T200000
DTSTAMP:20260423T111409
CREATED:20251203T194611Z
LAST-MODIFIED:20251203T194611Z
UID:2557-1764784800-1764792000@www.renovationcitychurch.com
SUMMARY:Renovators Youth Group
DESCRIPTION:Join grades 5th through 12th in the sanctuary for fun activities\, food\, fellowship and an encouraging Word. Invite a friend!
URL:https://www.renovationcitychurch.com/event/renovators-youth-group-9/
LOCATION:Renovation City Church\, 2101 Garden Rd\, Pearland\, TX\, 77581\, United States
CATEGORIES:Bible Study,Fellowship
ATTACH;FMTTYPE=image/png:https://www.renovationcitychurch.com/wp-content/uploads/2025/09/Renovators-1.png
END:VEVENT
BEGIN:VEVENT
DTSTART;TZID=America/Chicago:20251123T090000
DTEND;TZID=America/Chicago:20251123T100000
DTSTAMP:20260423T111409
CREATED:20251117T195250Z
LAST-MODIFIED:20251117T195250Z
UID:2544-1763888400-1763892000@www.renovationcitychurch.com
SUMMARY:Family Life Group
DESCRIPTION:Join us before church for the Hall Life Group that applies the sermon series on Colossians. Kids are welcome to join the discussion and fellowship as we grow in our faith and relationships together. Contact Robert Clark for more information.
URL:https://www.renovationcitychurch.com/event/family-life-group-6/
LOCATION:Renovation City Church\, 2101 Garden Rd\, Pearland\, TX\, 77581\, United States
CATEGORIES:Bible Study,Fellowship
ATTACH;FMTTYPE=image/png:https://www.renovationcitychurch.com/wp-content/uploads/2025/06/Prayer-Meeting.png
END:VEVENT
BEGIN:VEVENT
DTSTART;TZID=America/Chicago:20251120T100000
DTEND;TZID=America/Chicago:20251120T110000
DTSTAMP:20260423T111409
CREATED:20251117T194719Z
LAST-MODIFIED:20251117T194719Z
UID:2542-1763632800-1763636400@www.renovationcitychurch.com
SUMMARY:What Happens When Women Pray: Book Study
DESCRIPTION:All are welcome to come and be led in discussion and teaching on biblical and practical ways to enter into dynamic\, life changing prayer. Whether you can come once or to all 6 sessions\, please join and bring a friend! See Diana Clark or Wanda Freeman for more information. Held in the Fellowship Hall of RCC.
URL:https://www.renovationcitychurch.com/event/what-happens-when-women-pray-book-study-6/
LOCATION:Renovation City Church\, 2101 Garden Rd\, Pearland\, TX\, 77581\, United States
CATEGORIES:Bible Study,Fellowship,Prayer
ATTACH;FMTTYPE=image/png:https://www.renovationcitychurch.com/wp-content/uploads/2025/09/Womens-Prayer-Meeting.png
END:VEVENT
BEGIN:VEVENT
DTSTART;TZID=America/Chicago:20251119T180000
DTEND;TZID=America/Chicago:20251119T200000
DTSTAMP:20260423T111409
CREATED:20251117T193450Z
LAST-MODIFIED:20251117T193450Z
UID:2538-1763575200-1763582400@www.renovationcitychurch.com
SUMMARY:Renovators Youth Group
DESCRIPTION:Join grades 5th through 12th in the sanctuary for fun activities\, food\, fellowship and an encouraging Word. Invite a friend!
URL:https://www.renovationcitychurch.com/event/renovators-youth-group-8/
LOCATION:Renovation City Church\, 2101 Garden Rd\, Pearland\, TX\, 77581\, United States
CATEGORIES:Bible Study,Fellowship
ATTACH;FMTTYPE=image/png:https://www.renovationcitychurch.com/wp-content/uploads/2025/09/Renovators-1.png
END:VEVENT
BEGIN:VEVENT
DTSTART;TZID=America/Chicago:20251113T103000
DTEND;TZID=America/Chicago:20251113T120000
DTSTAMP:20260423T111409
CREATED:20251110T165058Z
LAST-MODIFIED:20251110T165058Z
UID:2531-1763029800-1763035200@www.renovationcitychurch.com
SUMMARY:What Happens When Women Pray: Book Study
DESCRIPTION:All are welcome to come and be led in discussion and teaching on biblical and practical ways to enter into dynamic\, life changing prayer. Whether you can come once or to all 6 sessions\, please join and bring a friend! See Diana Clark or Wanda Freeman for more information. Held in the Fellowship Hall of RCC.
URL:https://www.renovationcitychurch.com/event/what-happens-when-women-pray-book-study-5/
LOCATION:Renovation City Church\, 2101 Garden Rd\, Pearland\, TX\, 77581\, United States
CATEGORIES:Bible Study,Fellowship
ATTACH;FMTTYPE=image/png:https://www.renovationcitychurch.com/wp-content/uploads/2025/09/Womens-Prayer-Meeting.png
END:VEVENT
BEGIN:VEVENT
DTSTART;TZID=America/Chicago:20251112T180000
DTEND;TZID=America/Chicago:20251112T200000
DTSTAMP:20260423T111409
CREATED:20251105T195126Z
LAST-MODIFIED:20251105T195126Z
UID:2518-1762970400-1762977600@www.renovationcitychurch.com
SUMMARY:Renovators Youth Group
DESCRIPTION:Join grades 5th through 12th in the sanctuary for fun activities\, food\, fellowship and an encouraging Word. Invite a friend!
URL:https://www.renovationcitychurch.com/event/renovators-youth-group-7/
LOCATION:Renovation City Church\, 2101 Garden Rd\, Pearland\, TX\, 77581\, United States
CATEGORIES:Bible Study,Fellowship
ATTACH;FMTTYPE=image/png:https://www.renovationcitychurch.com/wp-content/uploads/2025/09/Renovators-1.png
END:VEVENT
BEGIN:VEVENT
DTSTART;TZID=America/Chicago:20251105T180000
DTEND;TZID=America/Chicago:20251105T200000
DTSTAMP:20260423T111409
CREATED:20251026T171222Z
LAST-MODIFIED:20251026T171829Z
UID:2508-1762365600-1762372800@www.renovationcitychurch.com
SUMMARY:Renovators Youth Group
DESCRIPTION:Join grades 5th through 12th in the sanctuary for fun activities\, food\, fellowship and an encouraging Word. Invite a friend!
URL:https://www.renovationcitychurch.com/event/renovators-youth-group-6/
LOCATION:Renovation City Church\, 2101 Garden Rd\, Pearland\, TX\, 77581\, United States
CATEGORIES:Bible Study,Fellowship
ATTACH;FMTTYPE=image/png:https://www.renovationcitychurch.com/wp-content/uploads/2025/09/Renovators-1.png
END:VEVENT
BEGIN:VEVENT
DTSTART;TZID=America/Chicago:20251102T090000
DTEND;TZID=America/Chicago:20251102T100000
DTSTAMP:20260423T111409
CREATED:20251026T172640Z
LAST-MODIFIED:20251026T172640Z
UID:2512-1762074000-1762077600@www.renovationcitychurch.com
SUMMARY:Family Life Group
DESCRIPTION:Join us before church for the Hall Life Group that applies the sermon series on Colossians. Kids are welcome to join the discussion and fellowship as we grow in our faith and relationships together. Contact Robert Clark for more information.
URL:https://www.renovationcitychurch.com/event/family-life-group-4/
LOCATION:Renovation City Church\, 2101 Garden Rd\, Pearland\, TX\, 77581\, United States
CATEGORIES:Bible Study,Fellowship
ATTACH;FMTTYPE=image/png:https://www.renovationcitychurch.com/wp-content/uploads/2025/06/Prayer-Meeting.png
END:VEVENT
BEGIN:VEVENT
DTSTART;TZID=America/Chicago:20251030T100000
DTEND;TZID=America/Chicago:20251030T110000
DTSTAMP:20260423T111409
CREATED:20251026T172105Z
LAST-MODIFIED:20251026T172105Z
UID:2510-1761818400-1761822000@www.renovationcitychurch.com
SUMMARY:What Happens When Women Pray: Book Study
DESCRIPTION:All are welcome to come and be led in discussion and teaching on biblical and practical ways to enter into dynamic\, life changing prayer. Whether you can come once or to all 6 sessions\, please join and bring a friend! See Diana Clark or Wanda Freeman for more information. Held in the Fellowship Hall of RCC.
URL:https://www.renovationcitychurch.com/event/what-happens-when-women-pray-book-study-4/
LOCATION:Renovation City Church\, 2101 Garden Rd\, Pearland\, TX\, 77581\, United States
CATEGORIES:Bible Study,Fellowship
ATTACH;FMTTYPE=image/png:https://www.renovationcitychurch.com/wp-content/uploads/2025/09/Womens-Prayer-Meeting.png
END:VEVENT
BEGIN:VEVENT
DTSTART;TZID=America/Chicago:20251026T090000
DTEND;TZID=America/Chicago:20251026T100000
DTSTAMP:20260423T111409
CREATED:20251019T000101Z
LAST-MODIFIED:20251019T000101Z
UID:2488-1761469200-1761472800@www.renovationcitychurch.com
SUMMARY:Life Group
DESCRIPTION:We will be studying the book of Colossians. A children’s Sunday School will be provided during the Life Group.
URL:https://www.renovationcitychurch.com/event/life-group/
LOCATION:Renovation City Church\, 2101 Garden Rd\, Pearland\, TX\, 77581\, United States
CATEGORIES:Bible Study,Fellowship
ATTACH;FMTTYPE=image/png:https://www.renovationcitychurch.com/wp-content/uploads/2025/06/Prayer-Meeting.png
END:VEVENT
BEGIN:VEVENT
DTSTART;TZID=America/Chicago:20251023T100000
DTEND;TZID=America/Chicago:20251023T110000
DTSTAMP:20260423T111409
CREATED:20251018T235804Z
LAST-MODIFIED:20251018T235804Z
UID:2486-1761213600-1761217200@www.renovationcitychurch.com
SUMMARY:What Happens When Women Pray: Book Study
DESCRIPTION:All are welcome to come and be led in discussion and teaching on biblical and practical ways to enter into dynamic\, life changing prayer. Whether you can come once or to all 6 sessions\, please join and bring a friend! See Diana Clark or Wanda Freeman for more information. Held in the Fellowship Hall of RCC.
URL:https://www.renovationcitychurch.com/event/what-happens-when-women-pray-book-study-3/
LOCATION:Renovation City Church\, 2101 Garden Rd\, Pearland\, TX\, 77581\, United States
CATEGORIES:Bible Study,Fellowship
ATTACH;FMTTYPE=image/png:https://www.renovationcitychurch.com/wp-content/uploads/2025/09/Womens-Prayer-Meeting.png
END:VEVENT
BEGIN:VEVENT
DTSTART;TZID=America/Chicago:20251022T180000
DTEND;TZID=America/Chicago:20251022T200000
DTSTAMP:20260423T111409
CREATED:20251018T235158Z
LAST-MODIFIED:20251018T235240Z
UID:2481-1761156000-1761163200@www.renovationcitychurch.com
SUMMARY:Renovators Youth Group
DESCRIPTION:Join grades 5th through 12th in the sanctuary for fun activities\, food\, fellowship and an encouraging Word. Invite a friend!
URL:https://www.renovationcitychurch.com/event/renovators-youth-group-5/
LOCATION:Renovation City Church\, 2101 Garden Rd\, Pearland\, TX\, 77581\, United States
CATEGORIES:Fellowship
ATTACH;FMTTYPE=image/png:https://www.renovationcitychurch.com/wp-content/uploads/2025/09/Renovators-1.png
END:VEVENT
BEGIN:VEVENT
DTSTART;TZID=America/Chicago:20251015T180000
DTEND;TZID=America/Chicago:20251015T200000
DTSTAMP:20260423T111409
CREATED:20251015T223236Z
LAST-MODIFIED:20251015T223236Z
UID:2467-1760551200-1760558400@www.renovationcitychurch.com
SUMMARY:Renovators Youth Group
DESCRIPTION:Join grades 5th through 12th in the sanctuary for fun activities\, food\, fellowship and an encouraging Word. Invite a friend!
URL:https://www.renovationcitychurch.com/event/renovators-youth-group-4/
LOCATION:Renovation City Church\, 2101 Garden Rd\, Pearland\, TX\, 77581\, United States
CATEGORIES:Fellowship
ATTACH;FMTTYPE=image/png:https://www.renovationcitychurch.com/wp-content/uploads/2025/09/Renovators-1.png
END:VEVENT
BEGIN:VEVENT
DTSTART;TZID=America/Chicago:20251012T090000
DTEND;TZID=America/Chicago:20251012T100000
DTSTAMP:20260423T111409
CREATED:20251009T155603Z
LAST-MODIFIED:20251009T155603Z
UID:2465-1760259600-1760263200@www.renovationcitychurch.com
SUMMARY:Family Life Group
DESCRIPTION:Join us before church for the last meeting in our Money Challenge Life Group that applies the sermon series on Generosity and dives into God’s Word on living a generous life. Kids are welcome to join the discussion and fellowship as we grow in our faith and relationships together. Contact Robert Clark for more information.
URL:https://www.renovationcitychurch.com/event/family-life-group-3/
LOCATION:Renovation City Church\, 2101 Garden Rd\, Pearland\, TX\, 77581\, United States
CATEGORIES:Bible Study,Fellowship
ATTACH;FMTTYPE=image/png:https://www.renovationcitychurch.com/wp-content/uploads/2025/06/Prayer-Meeting.png
END:VEVENT
BEGIN:VEVENT
DTSTART;TZID=America/Chicago:20251009T100000
DTEND;TZID=America/Chicago:20251009T110000
DTSTAMP:20260423T111409
CREATED:20251009T155023Z
LAST-MODIFIED:20251009T155023Z
UID:2463-1760004000-1760007600@www.renovationcitychurch.com
SUMMARY:What Happens When Women Pray: Book Study
DESCRIPTION:All are welcome to come and be led in discussion and teaching on biblical and practical ways to enter into dynamic\, life changing prayer. Whether you can come once or to all 6 sessions\, please join and bring a friend! See Diana Clark or Wanda Freeman for more information. Held in the Fellowship Hall of RCC.
URL:https://www.renovationcitychurch.com/event/what-happens-when-women-pray-book-study-2/
LOCATION:Renovation City Church\, 2101 Garden Rd\, Pearland\, TX\, 77581\, United States
CATEGORIES:Bible Study,Fellowship
ATTACH;FMTTYPE=image/png:https://www.renovationcitychurch.com/wp-content/uploads/2025/09/Womens-Prayer-Meeting.png
END:VEVENT
END:VCALENDAR