BEGIN:VCALENDAR
VERSION:2.0
PRODID:-//Renovation City Church - ECPv6.15.20//NONSGML v1.0//EN
CALSCALE:GREGORIAN
METHOD:PUBLISH
X-WR-CALNAME:Renovation City Church
X-ORIGINAL-URL:https://www.renovationcitychurch.com
X-WR-CALDESC:Events for Renovation City Church
REFRESH-INTERVAL;VALUE=DURATION:PT1H
X-Robots-Tag:noindex
X-PUBLISHED-TTL:PT1H
BEGIN:VTIMEZONE
TZID:America/Chicago
BEGIN:DAYLIGHT
TZOFFSETFROM:-0600
TZOFFSETTO:-0500
TZNAME:CDT
DTSTART:20250309T080000
END:DAYLIGHT
BEGIN:STANDARD
TZOFFSETFROM:-0500
TZOFFSETTO:-0600
TZNAME:CST
DTSTART:20251102T070000
END:STANDARD
BEGIN:DAYLIGHT
TZOFFSETFROM:-0600
TZOFFSETTO:-0500
TZNAME:CDT
DTSTART:20260308T080000
END:DAYLIGHT
BEGIN:STANDARD
TZOFFSETFROM:-0500
TZOFFSETTO:-0600
TZNAME:CST
DTSTART:20261101T070000
END:STANDARD
BEGIN:DAYLIGHT
TZOFFSETFROM:-0600
TZOFFSETTO:-0500
TZNAME:CDT
DTSTART:20270314T080000
END:DAYLIGHT
BEGIN:STANDARD
TZOFFSETFROM:-0500
TZOFFSETTO:-0600
TZNAME:CST
DTSTART:20271107T070000
END:STANDARD
END:VTIMEZONE
BEGIN:VEVENT
DTSTART;TZID=America/Chicago:20260107T180000
DTEND;TZID=America/Chicago:20260107T200000
DTSTAMP:20260423T105000
CREATED:20260106T180021Z
LAST-MODIFIED:20260106T180021Z
UID:2599-1767808800-1767816000@www.renovationcitychurch.com
SUMMARY:Renovators Youth Group
DESCRIPTION:Join grades 5th through 12th in the sanctuary for fun activities\, food\, fellowship and an encouraging Word. Invite a friend!
URL:https://www.renovationcitychurch.com/event/renovators-youth-group-12/
LOCATION:Renovation City Church\, 2101 Garden Rd\, Pearland\, TX\, 77581\, United States
CATEGORIES:Bible Study,Fellowship
ATTACH;FMTTYPE=image/png:https://www.renovationcitychurch.com/wp-content/uploads/2025/09/Renovators-1.png
END:VEVENT
BEGIN:VEVENT
DTSTART;TZID=America/Chicago:20260107T183000
DTEND;TZID=America/Chicago:20260107T200000
DTSTAMP:20260423T105000
CREATED:20260106T180552Z
LAST-MODIFIED:20260106T180552Z
UID:2601-1767810600-1767816000@www.renovationcitychurch.com
SUMMARY:Prayer Meeting
DESCRIPTION:Join us in the Fellowship Hall as we gather for a brief time of prayer to honor our awesome God and pray for our members\, our neighbors and our world.
URL:https://www.renovationcitychurch.com/event/prayer-meeting-13/
LOCATION:Renovation City Church\, 2101 Garden Rd\, Pearland\, TX\, 77581\, United States
CATEGORIES:Prayer
ATTACH;FMTTYPE=image/png:https://www.renovationcitychurch.com/wp-content/uploads/2025/08/Corporate-Prayer-1.png
END:VEVENT
END:VCALENDAR